BEGIN:VCALENDAR
VERSION:2.0
PRODID:-//Hersfelder-Ruderverein//NONSGML kigkonsult.se iCalcreator 2.41.92//
CALSCALE:GREGORIAN
METHOD:PUBLISH
UID:63343534-6561-4733-a661-313234393765
X-WR-CALNAME:iCagenda
X-WR-CALDESC:Event Management Extension for Joomla!
X-WR-RELCALID:3E26604A-50F4-4449-8B3E-E4F4932D05B5
X-WR-TIMEZONE:Europe/Berlin
BEGIN:VTIMEZONE
TZID:Europe/Berlin
TZUNTIL:20271031T010000Z
BEGIN:STANDARD
TZNAME:CET
DTSTART:20251026T030000
TZOFFSETFROM:+0200
TZOFFSETTO:+0100
RDATE:20261025T030000
END:STANDARD
BEGIN:DAYLIGHT
TZNAME:CEST
DTSTART:20260329T020000
TZOFFSETFROM:+0100
TZOFFSETTO:+0200
RDATE:20270328T020000
END:DAYLIGHT
END:VTIMEZONE
BEGIN:VEVENT
UID:30626439-6430-4961-b433-376166656239
DTSTAMP:20260421T094047Z
CATEGORIES:Helferdienst Steuern - Steg
CLASS:PUBLIC
DESCRIPTION:
DTSTART:20260424T150000Z
DTEND:20260424T150000Z
GEO:00;0
LOCATION:
ORGANIZER;CN=:mailto:andrea.weiss@hersfelder-ruderverein.de
SEQUENCE:1
SUMMARY:Helferdienst Steuern - Steg
TRANSP:OPAQUE
URL:https://hersfelder-ruderverein.de/index.php/component/icagenda/35-helfe
 rdienst-steuern-steg/2026-04-24-17-00
END:VEVENT
END:VCALENDAR
