BEGIN:VCALENDAR
VERSION:2.0
PRODID:-//Hersfelder-Ruderverein//NONSGML kigkonsult.se iCalcreator 2.41.92//
CALSCALE:GREGORIAN
METHOD:PUBLISH
UID:61646163-6162-4233-b161-376566613261
X-WR-CALNAME:iCagenda
X-WR-CALDESC:Event Management Extension for Joomla!
X-WR-RELCALID:3E26604A-50F4-4449-8B3E-E4F4932D05B5
X-WR-TIMEZONE:Europe/Berlin
BEGIN:VTIMEZONE
TZID:Europe/Berlin
TZUNTIL:20271031T010000Z
BEGIN:STANDARD
TZNAME:CET
DTSTART:20251026T030000
TZOFFSETFROM:+0200
TZOFFSETTO:+0100
RDATE:20261025T030000
END:STANDARD
BEGIN:DAYLIGHT
TZNAME:CEST
DTSTART:20260329T020000
TZOFFSETFROM:+0100
TZOFFSETTO:+0200
RDATE:20270328T020000
END:DAYLIGHT
END:VTIMEZONE
BEGIN:VEVENT
UID:34626139-3432-4137-a565-326133393531
DTSTAMP:20260425T140415Z
CATEGORIES:Termine
CLASS:PUBLIC
DESCRIPTION:
DTSTART:20260425T150000Z
DTEND:20260425T150000Z
GEO:00;0
LOCATION:Bootshaus
ORGANIZER:
SEQUENCE:1
SUMMARY:Jahreshauptversammlung 2026
TRANSP:OPAQUE
URL:https://hersfelder-ruderverein.de/index.php/component/icagenda/25-jahre
 shauptversammlung-2025/2026-04-25-17-00?layout=vcal
END:VEVENT
END:VCALENDAR
